BEGIN:VCALENDAR
VERSION:2.0
PRODID:-//MANILA BOXING CLUB - ECPv6.15.20//NONSGML v1.0//EN
CALSCALE:GREGORIAN
METHOD:PUBLISH
X-WR-CALNAME:MANILA BOXING CLUB
X-ORIGINAL-URL:https://manilaboxingclub.es
X-WR-CALDESC:Eventos para MANILA BOXING CLUB
REFRESH-INTERVAL;VALUE=DURATION:PT1H
X-Robots-Tag:noindex
X-PUBLISHED-TTL:PT1H
BEGIN:VTIMEZONE
TZID:Europe/Madrid
BEGIN:DAYLIGHT
TZOFFSETFROM:+0100
TZOFFSETTO:+0200
TZNAME:CEST
DTSTART:20250330T010000
END:DAYLIGHT
BEGIN:STANDARD
TZOFFSETFROM:+0200
TZOFFSETTO:+0100
TZNAME:CET
DTSTART:20251026T010000
END:STANDARD
BEGIN:DAYLIGHT
TZOFFSETFROM:+0100
TZOFFSETTO:+0200
TZNAME:CEST
DTSTART:20260329T010000
END:DAYLIGHT
BEGIN:STANDARD
TZOFFSETFROM:+0200
TZOFFSETTO:+0100
TZNAME:CET
DTSTART:20261025T010000
END:STANDARD
BEGIN:DAYLIGHT
TZOFFSETFROM:+0100
TZOFFSETTO:+0200
TZNAME:CEST
DTSTART:20270328T010000
END:DAYLIGHT
BEGIN:STANDARD
TZOFFSETFROM:+0200
TZOFFSETTO:+0100
TZNAME:CET
DTSTART:20271031T010000
END:STANDARD
END:VTIMEZONE
BEGIN:VTIMEZONE
TZID:UTC
BEGIN:STANDARD
TZOFFSETFROM:+0000
TZOFFSETTO:+0000
TZNAME:UTC
DTSTART:20240101T000000
END:STANDARD
END:VTIMEZONE
BEGIN:VEVENT
DTSTART;TZID=Europe/Madrid:20260214T100000
DTEND;TZID=Europe/Madrid:20260214T120000
DTSTAMP:20260421T121051
CREATED:20260114T102344Z
LAST-MODIFIED:20260114T135251Z
UID:7898-1771063200-1771070400@manilaboxingclub.es
SUMMARY:Master Class Rafa Lozano
DESCRIPTION:El próximo 14 de febrero tienes una cita única con la élite del boxeo español.\nNuestro club acoge una Master Class exclusiva impartida por Rafa Lozano\, uno de los boxeadores más destacados de nuestro país\, donde compartirá contigo su experiencia\, técnica y visión del boxeo de alto nivel. \n\nDurante la sesión trabajarás:\nTécnicas avanzadas\nDesplazamientos y control de distancia\nTrabajo táctico de combate\nConsejos prácticos de entrenamiento profesional\nMentalidad y preparación para competir\n\n  \nTanto si estás dando tus primeros pasos como si ya compites\, esta master class te permitirá mejorar tu rendimiento\, pulir tu estilo y aprender directamente de un referente del boxeo. \n🎟️ Plazas limitadas – no pierdas la oportunidad de entrenar con un campeón. \nReserva tu plaza en recepción o contactando con nosotros por mensaje directo. \n  ¡El 14 de febrero subimos el nivel! 💥
URL:https://manilaboxingclub.es/event/master-class-rafa-lozano/
LOCATION:Manila Boxing Club\, Avda. Canillejas a Vicalvaro 129\, Madrid\, Madrid\, 28022\, Spain
CATEGORIES:Boxeo,Masterclass
ATTACH;FMTTYPE=image/jpeg:https://manilaboxingclub.es/wp-content/uploads/2026/01/1-scaled.jpg
ORGANIZER;CN="Manila Boxing Club":MAILTO:admin@manilaboxingclub.es
END:VEVENT
BEGIN:VEVENT
DTSTART;TZID=Europe/Madrid:20260124T090000
DTEND;TZID=Europe/Madrid:20260124T130000
DTSTAMP:20260421T121051
CREATED:20251218T221304Z
LAST-MODIFIED:20251218T234201Z
UID:7683-1769245200-1769259600@manilaboxingclub.es
SUMMARY:I Interclub Manila Boxing Club
DESCRIPTION:I INTERCLUB  – MANILA BOXING CLUB \nEl próximo 24 de enero a las 9:00 de la mañana\, Manila Boxing Club será el escenario de un Interclub de Boxeo que reunirá a deportistas de distintos gimnasios en una jornada cargada de emoción\, esfuerzo y pasión por este deporte. \nEste evento tiene como objetivo fomentar el boxeo amateur\, el respeto entre clubes y la experiencia competitiva de los púgiles\, ofreciendo combates donde se pondrán en práctica la técnica\, la disciplina y el trabajo realizado durante meses de entrenamiento. El interclub es una oportunidad clave tanto para boxeadores en formación como para aquellos con más recorrido\, permitiéndoles ganar confianza y rodaje en un entorno seguro y controlado. \nDurante la mañana se disputarán diversos combates\, siempre bajo criterios de igualdad de peso y nivel\, garantizando enfrentamientos equilibrados y de gran interés para el público. El ambiente será el propio del boxeo de gimnasio: cercano\, auténtico y lleno de compañerismo\, donde el respeto y el aprendizaje están por encima del resultado. \n📅 Fecha: 24 de enero\n⏰ Hora: 9:00\n📍 Lugar: Manila Boxing Club\n🥊 Evento: Interclub de Boxeo \nInvitamos a familiares\, amigos y aficionados al boxeo a acompañarnos y apoyar a los deportistas en esta jornada especial.\n¡Ven a disfrutar del boxeo en su estado más puro y a vivir una mañana llena de acción sobre el ring! 💪🥊
URL:https://manilaboxingclub.es/event/i-interclub-manila-boxing-club/
LOCATION:Manila Boxing Club\, Avda. Canillejas a Vicalvaro 129\, Madrid\, Madrid\, 28022\, Spain
CATEGORIES:Boxeo,Interclub
ATTACH;FMTTYPE=image/png:https://manilaboxingclub.es/wp-content/uploads/2025/12/I-Interclub.png
ORGANIZER;CN="Manila Boxing Club":MAILTO:admin@manilaboxingclub.es
END:VEVENT
BEGIN:VEVENT
DTSTART;TZID=UTC:20251017T200000
DTEND;TZID=UTC:20251017T220000
DTSTAMP:20260421T121051
CREATED:20250919T123449Z
LAST-MODIFIED:20251007T140543Z
UID:4059-1760731200-1760738400@manilaboxingclub.es
SUMMARY:Inaguracion de  Manila Boxing Club
DESCRIPTION:El contenido esta protegido.
URL:https://manilaboxingclub.es/event/inaguracion-de-manila-boxing-club/
LOCATION:Manila Boxing Club\, Avda. Canillejas a Vicalvaro 129\, Madrid\, Madrid\, 28022\, Spain
CATEGORIES:Boxeo
ORGANIZER;CN="Manila Boxing Club":MAILTO:admin@manilaboxingclub.es
END:VEVENT
END:VCALENDAR